BEGIN:VCALENDAR
VERSION:2.0
PRODID:-//Global Dance Supreme - ECPv6.15.20//NONSGML v1.0//EN
CALSCALE:GREGORIAN
METHOD:PUBLISH
X-ORIGINAL-URL:https://globaldancesupreme.com
X-WR-CALDESC:Events for Global Dance Supreme
REFRESH-INTERVAL;VALUE=DURATION:PT1H
X-Robots-Tag:noindex
X-PUBLISHED-TTL:PT1H
BEGIN:VTIMEZONE
TZID:Europe/London
BEGIN:DAYLIGHT
TZOFFSETFROM:+0000
TZOFFSETTO:+0100
TZNAME:BST
DTSTART:20250330T010000
END:DAYLIGHT
BEGIN:STANDARD
TZOFFSETFROM:+0100
TZOFFSETTO:+0000
TZNAME:GMT
DTSTART:20251026T010000
END:STANDARD
BEGIN:DAYLIGHT
TZOFFSETFROM:+0000
TZOFFSETTO:+0100
TZNAME:BST
DTSTART:20260329T010000
END:DAYLIGHT
BEGIN:STANDARD
TZOFFSETFROM:+0100
TZOFFSETTO:+0000
TZNAME:GMT
DTSTART:20261025T010000
END:STANDARD
BEGIN:DAYLIGHT
TZOFFSETFROM:+0000
TZOFFSETTO:+0100
TZNAME:BST
DTSTART:20270328T010000
END:DAYLIGHT
BEGIN:STANDARD
TZOFFSETFROM:+0100
TZOFFSETTO:+0000
TZNAME:GMT
DTSTART:20271031T010000
END:STANDARD
END:VTIMEZONE
BEGIN:VEVENT
DTSTART;TZID=Europe/London:20260501T093000
DTEND;TZID=Europe/London:20260501T233000
DTSTAMP:20260421T093022
CREATED:20260221T204812Z
LAST-MODIFIED:20260311T130607Z
UID:5690-1777627800-1777678200@globaldancesupreme.com
SUMMARY:Dance Experience - Litchi Hov - Workshop  - 1 May 2026
DESCRIPTION:LITCHI HOV – AFRO FUSION WORKSHOP\nHosted by Global Dance Supreme (GDS)\nGLX Dance Experience (South Africa) \n📅 Date: Friday\, 1 May 2026\n📍 Venue: The Urban Playground\, Fourways Mall\, Johannesburg\n⏰ Time: 9:30AM – 11:30AM \nDance with Litchi Hov — internationally acclaimed choreographer and the creative force behind double Grammy-winning artist Tyla — in an exclusive Hip Hop Workshop at the GLX Dance Experience!\nThis is your opportunity to learn from an industry powerhouse known for precision\, power\, and shaping some of the most iconic visual moments in recent global music culture. \n💥 Limited Spaces Available – one choreographer\, one workshop.\n🎟 Registration Now Open — first come\, first served. \nWorkshop Details: \n✅ Open to ages 13 years & over\n✅ Group & studio packages available\n✅ Official Limited-Edition T-Shirts & Hoodies: Pre-orders opening soon\n✅ Focus: Elite-level choreography\, stage-ready execution\, and mindset elevation. \n✨ One workshop. One opportunity. Don’t miss your chance to push beyond your limits and train at an international standard!
URL:https://globaldancesupreme.com/ticket/litchi-hov/
LOCATION:The Urban Playground\, Fourways Mall\, 11 Ruby Cl\, Witkoppen\, Sandton\, 2068\, Johannesburg\, Gauteng\, 2068\, South Africa
CATEGORIES:Dance Experience
ATTACH;FMTTYPE=image/jpeg:https://globaldancesupreme.com/wp-content/uploads/2026/02/Global-Dance-Supreme-Square-8.jpg
ORGANIZER;CN="Global Dance Supreme":MAILTO:info@globaldancesupreme.com
END:VEVENT
BEGIN:VEVENT
DTSTART;TZID=Europe/London:20260704T093000
DTEND;TZID=Europe/London:20260704T113000
DTSTAMP:20260421T093022
CREATED:20260221T211340Z
LAST-MODIFIED:20260311T132702Z
UID:5706-1783157400-1783164600@globaldancesupreme.com
SUMMARY:Dance Experience - Ruthy Pearce - Workshop  - 4 July 2026
DESCRIPTION:RUTHY PEARCE (RUTHYBABY) – HIP HOP WORKSHOP\nHosted by Global Dance Supreme (GDS)\nGLX Dance Experience (South Africa) \n📅 Date: Saturday\, 4 July 2026\n📍 Venue: The Urban Playground\, Fourways Mall\, Johannesburg\n⏰ Time: 9:30 AM – 11:30 AM \nDance with Ruthy Pearce (AKA Ruthybaby) — from Australia and the world-renowned The Royal Family Dance Crew and AG Squad Crew — in an exclusive Hip Hop Workshop at the GLX Dance Experience! \nThis is your opportunity to train with a powerhouse performer bringing world-class standards into the space. Prepare for explosive\, technically sharp\, and performance-driven choreography designed to build confident\, stage-ready dancers. \n💥 Limited Spaces Available – one choreographer\, one workshop.\n🎟 Registration Now Open — first come\, first served. \nWorkshop Details:\n✅ Open to ages 13 years & over\n✅ Group & studio packages available\n✅ Official Limited-Edition T-Shirts & Hoodies: Pre-orders opening soon\n✅ Focus: Precision\, performance attack\, clean lines\, and elite industry-level training. \n✨ Expect intensity\, discipline\, and next-level growth. One exclusive workshop. Step up or step aside!
URL:https://globaldancesupreme.com/ticket/dance-experience-ruthy-pearce-workshop-4-july-2026/
LOCATION:The Urban Playground\, Fourways Mall\, 11 Ruby Cl\, Witkoppen\, Sandton\, 2068\, Johannesburg\, Gauteng\, 2068\, South Africa
CATEGORIES:Dance Experience,Ruthy Pearce
ATTACH;FMTTYPE=image/jpeg:https://globaldancesupreme.com/wp-content/uploads/2026/03/5.jpg
ORGANIZER;CN="Global Dance Supreme":MAILTO:info@globaldancesupreme.com
END:VEVENT
BEGIN:VEVENT
DTSTART;TZID=Europe/London:20260705T133000
DTEND;TZID=Europe/London:20260705T153000
DTSTAMP:20260421T093022
CREATED:20260221T220118Z
LAST-MODIFIED:20260311T131432Z
UID:5743-1783258200-1783265400@globaldancesupreme.com
SUMMARY:Dance Experience - Rubix - Workshop  - 5 July 2026
DESCRIPTION:RUBIX – HIP HOP WORKSHOP\nHosted by Global Dance Supreme (GDS)\nGLX Dance Experience (South Africa) \n📅 Date: Sunday\, 5 July 2026\n📍 Venue: The Urban Playground\, Fourways Mall\, Johannesburg\n⏰ Time: 1:30 PM – 3:30 PM \nDance with Rubix — straight out of France — in an exclusive Hip Hop Workshop at the GLX Dance Experience!\nA beast in street dance\, Rubix brings raw energy\, precision\, and a battle-ready style that demands attention and respect on every floor he steps on. A true street dancer at heart\, his style blends creativity with execution\, making every performance unpredictable and explosive. \n💥 Limited Spaces Available – one choreographer\, one workshop.\n🎟 Registration Now Open — first come\, first served. \nWorkshop Details:\n✅ Open to ages 13 years & over\n✅ Group & studio packages available\n✅ Official Limited-Edition T-Shirts & Hoodies: Pre-orders opening soon\n✅ Focus: Power\, texture\, flow\, and battle mentality. \n✨ Expect high-level movement and no holding back. One workshop. One opportunity. Bring your A-game!
URL:https://globaldancesupreme.com/ticket/dance-experience-rubix-workshop-5-july-2026/
LOCATION:The Urban Playground\, Fourways Mall\, 11 Ruby Cl\, Witkoppen\, Sandton\, 2068\, Johannesburg\, Gauteng\, 2068\, South Africa
CATEGORIES:Dance Experience,Rubix
ATTACH;FMTTYPE=image/jpeg:https://globaldancesupreme.com/wp-content/uploads/2026/03/10.jpg
ORGANIZER;CN="Global Dance Supreme":MAILTO:info@globaldancesupreme.com
END:VEVENT
END:VCALENDAR